BEGIN:VCALENDAR
VERSION:2.0
PRODID:-//www.neighborworkswpa.org//NONSGML kigkonsult.se iCalcreator 2.30.
 10//
CALSCALE:GREGORIAN
METHOD:PUBLISH
UID:8ca1fd0c-3029-42af-a859-6f094954ade5
X-WR-CALDESC:Join Forest Hills Library\, NeighborWorks Western Pennsylvania
  and AmeriServ Bank for a FREE Homebuyer Workshop designed to guide partic
 ipants through the homebuying process.\n\nThis in-person workshop features
  presentations from a HUD-approved housing counselor\, loan officer\, real
  estate agent\, home inspector\, and insurance broker\, providing expert g
 uidance all in one place. Participants will also enjoy complimentary break
 fast and lunch during the session.\n\nThis certificate may be used to appl
 y for down payment and closing cost assistance programs\, subject to lende
 r and program requirements.\n\nFor questions or additional information\, p
 lease see below!
X-WR-RELCALID:f77bbb7146f4ff41173f98a155330ee8
X-WR-TIMEZONE:America/New_York
BEGIN:VTIMEZONE
TZID:America/New_York
BEGIN:STANDARD
TZNAME:EST
DTSTART:20251102T020000
TZOFFSETFROM:-0400
TZOFFSETTO:-0500
RDATE:20261101T020000
RDATE:20271107T020000
END:STANDARD
BEGIN:DAYLIGHT
TZNAME:EDT
DTSTART:20260308T020000
TZOFFSETFROM:-0500
TZOFFSETTO:-0400
RDATE:20270314T020000
END:DAYLIGHT
END:VTIMEZONE
BEGIN:VEVENT
UID:9dd6bd66-1491-497f-b029-ce9aedcb3e2b
DTSTAMP:20260420T192940Z
DESCRIPTION:Join Forest Hills Library\, NeighborWorks Western Pennsylvania 
 and AmeriServ Bank for a FREE Homebuyer Workshop designed to guide partici
 pants through the homebuying process.\n\nThis in-person workshop features 
 presentations from a HUD-approved housing counselor\, loan officer\, real 
 estate agent\, home inspector\, and insurance broker\, providing expert gu
 idance all in one place. Participants will also enjoy complimentary breakf
 ast and lunch during the session.\n\nThis certificate may be used to apply
  for down payment and closing cost assistance programs\, subject to lender
  and program requirements.\n\nFor questions or additional information\, pl
 ease see below!
DTSTART;TZID=America/New_York:20260516T093000
DTEND;TZID=America/New_York:20260516T173000
LOCATION:4400 Greensburg Pike\, Pittsburgh\, PA 15221 US
SUMMARY:First-Time Homebuyer Workshop with Forest Hills Library
END:VEVENT
END:VCALENDAR
