BEGIN:VCALENDAR
VERSION:2.0
PRODID:-//www.neighborworkswpa.org//NONSGML kigkonsult.se iCalcreator 2.30.
 10//
CALSCALE:GREGORIAN
METHOD:PUBLISH
UID:cb4066c3-1410-4cb5-a7e4-ffdddb4db7ba
X-WR-CALDESC:Wilkinsburg Land Bank: First-Time Homebuyer Cohort\n\nAre you 
 a first-time homebuyer in or near the Wilkinsburg area? Join us for a 4-cl
 ass homebuyer cohort designed to walk you through the steps of purchasing 
 your first home.\n\nOver four sessions\, our team of experts will guide yo
 u through the homebuying process\, answer your questions\, and help you fe
 el more confident about this important milestone. The sessions will includ
 e presentations from a homeownership counselor\, loan officer\, real estat
 e agent\, home inspector\, and insurance broker.\n\nRegistration is requir
 ed\, and participants must attend all four sessions.\n\nAll sessions are f
 rom 5:30 PM to 7:30 PM.\n\nThursday\, May 7\, 2026 – In Person\nThursday\,
  May 14\, 2026 – Virtual\nThursday\, May 21\, 2026 – Virtual\nThursday\, M
 ay 28\, 2026 – In Person\n\nDon’t miss this opportunity to gain the knowle
 dge and support you need to start your homeownership journey.
X-WR-RELCALID:7b50422fa7ecbe87df08a7d57e0fe36e
X-WR-TIMEZONE:America/New_York
BEGIN:VTIMEZONE
TZID:America/New_York
BEGIN:STANDARD
TZNAME:EST
DTSTART:20251102T020000
TZOFFSETFROM:-0400
TZOFFSETTO:-0500
RDATE:20261101T020000
END:STANDARD
BEGIN:DAYLIGHT
TZNAME:EDT
DTSTART:20260308T020000
TZOFFSETFROM:-0500
TZOFFSETTO:-0400
RDATE:20270314T020000
END:DAYLIGHT
END:VTIMEZONE
BEGIN:VEVENT
UID:d6bfd267-853f-4f18-bab3-60940b6884df
DTSTAMP:20260420T191536Z
DESCRIPTION:Wilkinsburg Land Bank: First-Time Homebuyer Cohort\n\nAre you a
  first-time homebuyer in or near the Wilkinsburg area? Join us for a 4-cla
 ss homebuyer cohort designed to walk you through the steps of purchasing y
 our first home.\n\nOver four sessions\, our team of experts will guide you
  through the homebuying process\, answer your questions\, and help you fee
 l more confident about this important milestone. The sessions will include
  presentations from a homeownership counselor\, loan officer\, real estate
  agent\, home inspector\, and insurance broker.\n\nRegistration is require
 d\, and participants must attend all four sessions.\n\nAll sessions are fr
 om 5:30 PM to 7:30 PM.\n\nThursday\, May 7\, 2026 – In Person\nThursday\, 
 May 14\, 2026 – Virtual\nThursday\, May 21\, 2026 – Virtual\nThursday\, Ma
 y 28\, 2026 – In Person\n\nDon’t miss this opportunity to gain the knowled
 ge and support you need to start your homeownership journey.
DTSTART;TZID=America/New_York:20260507T173000
DTEND;TZID=America/New_York:20260507T193000
LOCATION:
SUMMARY:Wilkinsburg Land Bank: First-Time Homebuyer Cohort
END:VEVENT
END:VCALENDAR
